BEGIN:VCALENDAR
VERSION:2.0
PRODID:icalendar-ruby
CALSCALE:GREGORIAN
METHOD:PUBLISH
BEGIN:VEVENT
DTSTAMP:20260424T103920Z
UID:17-682437@kgfcmansfield.org
DTSTART:20261027T150000Z
DTEND:20261027T170000Z
CLASS:PUBLIC
CREATED:20260423T215452
DESCRIPTION:
LAST-MODIFIED:20260423T215452
LOCATION:KINGDOM GRACE FELLOWSHIP CHURCH - 105 REBA AVE.\, MANSFIELD\, OH 4
 4907
SUMMARY:LOVE ABUNDANTLY MEAL
URL;VALUE=URI:https://kgfcmansfield.org/events/love-abundantly-meal/2026-10
 -27
ATTACH;FILENAME=Love-Abundantly.jpg;FMTTYPE=image/jpeg:https://dq5pwpg1q8ru
 0.cloudfront.net/2025/06/16/14/08/57/46a3c972-49ed-45be-ace4-bbe77fa4d08e/
 Love-Abundantly.jpg
END:VEVENT
END:VCALENDAR
